BEGIN:VCALENDAR
VERSION:2.0
PRODID:-//ThrottlePro - ECPv6.11.2.1//NONSGML v1.0//EN
CALSCALE:GREGORIAN
METHOD:PUBLISH
X-WR-CALNAME:ThrottlePro
X-ORIGINAL-URL:https://throttlepro.com
X-WR-CALDESC:Events for ThrottlePro
REFRESH-INTERVAL;VALUE=DURATION:PT1H
X-Robots-Tag:noindex
X-PUBLISHED-TTL:PT1H
BEGIN:VTIMEZONE
TZID:America/Chicago
BEGIN:DAYLIGHT
TZOFFSETFROM:-0600
TZOFFSETTO:-0500
TZNAME:CDT
DTSTART:20250309T080000
END:DAYLIGHT
BEGIN:STANDARD
TZOFFSETFROM:-0500
TZOFFSETTO:-0600
TZNAME:CST
DTSTART:20251102T070000
END:STANDARD
END:VTIMEZONE
BEGIN:VEVENT
DTSTART;TZID=America/Chicago:20251105T000000
DTEND;TZID=America/Chicago:20251109T000000
DTSTAMP:20260424T214104
CREATED:20250529T174810Z
LAST-MODIFIED:20251102T003117Z
UID:5884-1762300800-1762646400@throttlepro.com
SUMMARY:21st Annual Porsche Palooza & Parade
DESCRIPTION:Porsche owners from all over the US and their beloved cars descend on Eureka Springs on this beautiful fall weekend filled with tours\, drives\, dinners\, show & shine\, and ladies’ “tea”. Come out and see these gorgeous machines shine! See website for more information.
URL:https://throttlepro.com/motorsport-event/21st-annual-porsche-palooza-parade/
CATEGORIES:Upcoming
ATTACH;FMTTYPE=image/jpeg:https://throttlepro.com/wp-content/uploads/2025/05/PPlza.jpg
END:VEVENT
END:VCALENDAR