BEGIN:VCALENDAR
VERSION:2.0
PRODID:-//ThrottlePro - ECPv6.11.2.1//NONSGML v1.0//EN
CALSCALE:GREGORIAN
METHOD:PUBLISH
X-ORIGINAL-URL:https://throttlepro.com
X-WR-CALDESC:Events for ThrottlePro
REFRESH-INTERVAL;VALUE=DURATION:PT1H
X-Robots-Tag:noindex
X-PUBLISHED-TTL:PT1H
BEGIN:VTIMEZONE
TZID:America/Chicago
BEGIN:DAYLIGHT
TZOFFSETFROM:-0600
TZOFFSETTO:-0500
TZNAME:CDT
DTSTART:20250309T080000
END:DAYLIGHT
BEGIN:STANDARD
TZOFFSETFROM:-0500
TZOFFSETTO:-0600
TZNAME:CST
DTSTART:20251102T070000
END:STANDARD
END:VTIMEZONE
BEGIN:VEVENT
DTSTART;TZID=America/Chicago:20251115T000000
DTEND;TZID=America/Chicago:20251116T000000
DTSTAMP:20260424T083345
CREATED:20250826T022904Z
LAST-MODIFIED:20250826T022904Z
UID:7158-1763164800-1763251200@throttlepro.com
SUMMARY:ER Fall Classic '25
DESCRIPTION:Express Rally Fall Classic Presented By Marque Collection Suites November 15-16th\, 2025 $699 per vehicle Register @ www.expressrally.com Event begins in Northwest Arkansas and ends in Tulsa\, OK   Entry Fee Includes:  Kickoff event at Fox Trail Distillery on Friday\, November 14th.  4-star hotel accommodations at the historic NationalHotel in downtown Oklahoma City on Saturday\, November 15th.  Scenic and technical driving route featuring some of the best roads in Arkansas and Oklahoma with pre-planned stops for fuel\, meals\, sightseeing\, and other points of interest.  Group lunch and shop tour of Tuff Industries on Saturday\, November 15th.  Private reception at The Mint Bar on the evening of Saturday\, November 15th.  Finale event and lunch at Enthusiast Auto Sales on Sunday\, November 16th.  ER Fall Classic vehicle sticker kit.  2 ER Fall Classic event T-shirts.  Commemorative ER Fall Classic poster.  Media coverage from BLK ELK Media & Richard Gutierrez.  https://www.facebook.com/events/1119839566695363/
URL:https://throttlepro.com/motorsport-event/er-fall-classic-25/
END:VEVENT
BEGIN:VEVENT
DTSTART;TZID=America/Chicago:20251115T000000
DTEND;TZID=America/Chicago:20251117T000000
DTSTAMP:20260424T083345
CREATED:20251101T233341Z
LAST-MODIFIED:20251102T023538Z
UID:7255-1763164800-1763337600@throttlepro.com
SUMMARY:Drift NWA Toge
DESCRIPTION: The 2025 Tōge Season Finale in Eureka Springs November 15-16th!\nDrifting is returning to the mountain roads\, and you won’t want to miss it in November! Tōge events are blowing up across the U.S.\, and this is your chance to experience it firsthand.\n Drivers Space is limited!Think you’ve got the skills? There are still a few spots open\, but time is running out! You have just three weeks to apply. Don’t miss your shot—apply now!https://form.jotform.com/252784486486172\n Spectators\, Get Ready!Food trucks serving up great eats.Merch booths with killer gear.Shuttle buses to multiple viewing areas so you can catch all the action up close.\n Tickets: $10 per adult per day | Kids 12 & under: FREE\n What You Missed Last Timehttps://youtu.be/0A5f06ojKvw?si=79e2rChcn1KdoaEz\n Stay Updated!Follow Reaction Motorsports Events and join the Drift NWA Facebook group for the latest updates.\n Don’t just watch—be part of the action! We can’t wait to see everyone at Round 5.
URL:https://throttlepro.com/motorsport-event/drift-nwa-tge/
ATTACH;FMTTYPE=image/jpeg:https://throttlepro.com/wp-content/uploads/2025/11/Toge-Drift.jpg
END:VEVENT
BEGIN:VEVENT
DTSTART;TZID=America/Chicago:20251115T160000
DTEND;TZID=America/Chicago:20251115T230000
DTSTAMP:20260424T083345
CREATED:20250529T175153Z
LAST-MODIFIED:20250529T175153Z
UID:5957-1763222400-1763247600@throttlepro.com
SUMMARY:Trucks\, Cars\, Guitars and Handlebars!!
DESCRIPTION:Calling all Cycling\, Guitar\, Cars and trucks enthusiasts.  We are working to hold an event at the Runway bike park.  It’s a BMX race it’s a mountain bike race with local guitarists sharing their talents while a car\, truck\, and motorcycle show is taking place.  If you love riding bicycles and have a specific vehicle you use to take your bikes around the world\, bring out those whips\, especially modified. Let’s share our rides and how we use them with each other to explore our hobbies.  More Event details coming soon.  https://www.facebook.com/events/2520803014943496/
URL:https://throttlepro.com/motorsport-event/trucks-cars-guitars-and-handlebars/
CATEGORIES:Upcoming
END:VEVENT
END:VCALENDAR