BEGIN:VCALENDAR
VERSION:2.0
PRODID:-//ThrottlePro - ECPv6.11.2.1//NONSGML v1.0//EN
CALSCALE:GREGORIAN
METHOD:PUBLISH
X-ORIGINAL-URL:https://throttlepro.com
X-WR-CALDESC:Events for ThrottlePro
REFRESH-INTERVAL;VALUE=DURATION:PT1H
X-Robots-Tag:noindex
X-PUBLISHED-TTL:PT1H
BEGIN:VTIMEZONE
TZID:America/Chicago
BEGIN:DAYLIGHT
TZOFFSETFROM:-0600
TZOFFSETTO:-0500
TZNAME:CDT
DTSTART:20250309T080000
END:DAYLIGHT
BEGIN:STANDARD
TZOFFSETFROM:-0500
TZOFFSETTO:-0600
TZNAME:CST
DTSTART:20251102T070000
END:STANDARD
END:VTIMEZONE
BEGIN:VEVENT
DTSTART;TZID=America/Chicago:20251115T000000
DTEND;TZID=America/Chicago:20251117T000000
DTSTAMP:20260424T065533
CREATED:20251101T233341Z
LAST-MODIFIED:20251102T023538Z
UID:7255-1763164800-1763337600@throttlepro.com
SUMMARY:Drift NWA Toge
DESCRIPTION: The 2025 Tōge Season Finale in Eureka Springs November 15-16th!\nDrifting is returning to the mountain roads\, and you won’t want to miss it in November! Tōge events are blowing up across the U.S.\, and this is your chance to experience it firsthand.\n Drivers Space is limited!Think you’ve got the skills? There are still a few spots open\, but time is running out! You have just three weeks to apply. Don’t miss your shot—apply now!https://form.jotform.com/252784486486172\n Spectators\, Get Ready!Food trucks serving up great eats.Merch booths with killer gear.Shuttle buses to multiple viewing areas so you can catch all the action up close.\n Tickets: $10 per adult per day | Kids 12 & under: FREE\n What You Missed Last Timehttps://youtu.be/0A5f06ojKvw?si=79e2rChcn1KdoaEz\n Stay Updated!Follow Reaction Motorsports Events and join the Drift NWA Facebook group for the latest updates.\n Don’t just watch—be part of the action! We can’t wait to see everyone at Round 5.
URL:https://throttlepro.com/motorsport-event/drift-nwa-tge/
ATTACH;FMTTYPE=image/jpeg:https://throttlepro.com/wp-content/uploads/2025/11/Toge-Drift.jpg
END:VEVENT
END:VCALENDAR