BEGIN:VCALENDAR
VERSION:2.0
PRODID:-//ThrottlePro - ECPv6.11.2.1//NONSGML v1.0//EN
CALSCALE:GREGORIAN
METHOD:PUBLISH
X-ORIGINAL-URL:https://throttlepro.com
X-WR-CALDESC:Events for ThrottlePro
REFRESH-INTERVAL;VALUE=DURATION:PT1H
X-Robots-Tag:noindex
X-PUBLISHED-TTL:PT1H
BEGIN:VTIMEZONE
TZID:America/Chicago
BEGIN:DAYLIGHT
TZOFFSETFROM:-0600
TZOFFSETTO:-0500
TZNAME:CDT
DTSTART:20260308T080000
END:DAYLIGHT
BEGIN:STANDARD
TZOFFSETFROM:-0500
TZOFFSETTO:-0600
TZNAME:CST
DTSTART:20261101T070000
END:STANDARD
END:VTIMEZONE
BEGIN:VEVENT
DTSTART;TZID=America/Chicago:20260501T000000
DTEND;TZID=America/Chicago:20260503T000000
DTSTAMP:20260423T033455
CREATED:20250813T222937Z
LAST-MODIFIED:20250813T222937Z
UID:6956-1777593600-1777766400@throttlepro.com
SUMMARY:The 2026 Steel Horse Rally
DESCRIPTION:You’re invited to the 2026 Steel Horse Rally on May 1st & 2nd\, 2026 in downtown Fort Smith\, Arkansas. The Steel Horse Rally is a charitymotorcycle event that Honors AllWho Serve” and helps local charities and the community. Park your bike in the middle of one of the widest historic downtown streets in the USA: Garrison Avenue. Ride in the Thunder through the Valley Motorcycle Parade\, plus enjoy great motorcycle rides & a poker run\, live music & entertainment\, 80+ vendors\, the Steel Horse Rally Handle Bar\, Miss Steel Horse Rally Contest\, and so much more. Experience theBikes & Badges Vintage MotorcycleShow\, the Cops & Cones MotorcycleExhibition\, the Steel Horse Strongman Showdown\, and the very special Unsung Heroes presentation! For the official Rally Guide\, Maps\, Schedule of Events and more info coming soon about Very Important Biker packages\, visit  https://www.thesteelhorserally.com/ or e-mail info@TheSteelHorseRally.com  https://www.facebook.com/events/3925454264387885/”
URL:https://throttlepro.com/motorsport-event/the-2026-steel-horse-rally/
CATEGORIES:Upcoming
END:VEVENT
BEGIN:VEVENT
DTSTART;TZID=America/Chicago:20260529T000000
DTEND;TZID=America/Chicago:20260531T000000
DTSTAMP:20260423T033455
CREATED:20250826T022904Z
LAST-MODIFIED:20250826T022904Z
UID:7159-1780012800-1780185600@throttlepro.com
SUMMARY:5th Anniversary Veterans Appreciation Weekend (Block Party Cruise Car\, Truck & Bike Show)
DESCRIPTION:5 YEARS OF HORSEPOWER & HONOR  TheUltimate Cruisers Veterans Appreciation Car\, Truck & Bike Show marks 5 incredible years of roaring engines\, gleaming chrome and a wholelot of heart. All in support of the brave men and women whoƒ??ve served our country.  From day one this event has been more than just acar show. It been a movement fueled by community\, patriotism and a shared love of everything on wheels. Through it all the Cruisersof Mountain Home have been right there with us helping bring this vision to life.  For our 5th Anniversary weƒ??re making it even bigger: The Cruisersƒ?? Friday Night Block Party & Cruise and the Saturday Car\, Truck & Bike Show are coming together for one massive unifiedcelebration weekend.  Two days One mission  All for our Veterans!  Expect: Classic cars\, customtrucks and killer bikes  Engines\,eats\, beats\, and the people who make it all worth it.  Every rev\, every ride\, every moment fuels a weekend built to honor our Veterans and support the mission behind theshow.  Weƒ??re counting on you tobring the horsepower and heart.  Details are coming soon. So stay tuned and if youƒ??ve got questionsor want to get involved\, donƒ??t hesitate to reach out.  Let make the 5th Anniversary weekend onethat we will all remember becauseour Veterans deserve nothing less.   https://www.facebook.com/events/1856612884879976/
URL:https://throttlepro.com/motorsport-event/5th-anniversary-veterans-appreciation-weekend-block-party-cruise-car-truck-bike-show/
END:VEVENT
BEGIN:VEVENT
DTSTART;TZID=America/Chicago:20260529T000000
DTEND;TZID=America/Chicago:20260531T000000
DTSTAMP:20260423T033455
CREATED:20250826T022914Z
LAST-MODIFIED:20250826T022914Z
UID:7160-1780012800-1780185600@throttlepro.com
SUMMARY:5th Anniversary Veterans Appreciation Weekend (Block Party ? Cruise ? Car\, Truck & Bike Show)
DESCRIPTION:5 YEARS OF HORSEPOWER & HONOR  TheUltimate Cruisers Veterans Appreciation Car\, Truck & Bike Show marks 5 incredible years of roaring engines\, gleaming chrome and a wholelot of heart. All in support of the brave men and women who?ve served our country.  From day one this event has been more than just acar show. It?s been a movement fueled by community\, patriotism and a shared love of everything on wheels. Through it all the Cruisersof Mountain Home have been right there with us helping bring this vision to life.  For our 5th Anniversary we?re making it even bigger: The Cruisers? Friday Night Block Party & Cruise and the Saturday Car\, Truck & Bike Show are coming together for one massive unifiedcelebration weekend.  Two days ?One mission ? All for our Veterans!  Expect: Classic cars\, customtrucks and killer bikes  Engines\,eats\, beats\, and the people who make it all worth it.  Every rev\, every ride\, every moment fuels a weekend built to honor our Veterans and support the mission behind theshow.  We?re counting on you tobring the horsepower and heart.  Details are coming soon. So stay tuned and if you?ve got questionsor want to get involved\, don?t hesitate to reach out.  Let?s make the 5th Anniversary weekend onethat we will all remember becauseour Veterans deserve nothing less.   https://www.facebook.com/events/1856612884879976/
URL:https://throttlepro.com/motorsport-event/5th-anniversary-veterans-appreciation-weekend-block-party-cruise-car-truck-bike-show-2/
END:VEVENT
BEGIN:VEVENT
DTSTART;TZID=America/Chicago:20260530T000000
DTEND;TZID=America/Chicago:20260530T000000
DTSTAMP:20260423T033455
CREATED:20250826T022914Z
LAST-MODIFIED:20250826T022914Z
UID:7161-1780099200-1780099200@throttlepro.com
SUMMARY:Wheels of Summer open car show
DESCRIPTION:Biggest car show in fort Smith\, Arkansas! We added more room and awards \, top 100 as well !   This year we also have a planned festival along the river along with the show !   https://www.facebook.com/events/731296699376971/
URL:https://throttlepro.com/motorsport-event/wheels-of-summer-open-car-show/
END:VEVENT
BEGIN:VEVENT
DTSTART;TZID=America/Chicago:20260530T000000
DTEND;TZID=America/Chicago:20260530T000000
DTSTAMP:20260423T033455
CREATED:20250826T022914Z
LAST-MODIFIED:20250826T022914Z
UID:7162-1780099200-1780099200@throttlepro.com
SUMMARY:Wheels of Summer open car show
DESCRIPTION:Biggest car show in fort Smith\, Arkansas! We added more room and awards \, top 100 as well !   This year we also have a planned festival along the river along with the show !   https://www.facebook.com/events/731296699376971/
URL:https://throttlepro.com/motorsport-event/wheels-of-summer-open-car-show-2/
END:VEVENT
END:VCALENDAR