BEGIN:VCALENDAR
VERSION:2.0
PRODID:-//ThrottlePro - ECPv6.11.2.1//NONSGML v1.0//EN
CALSCALE:GREGORIAN
METHOD:PUBLISH
X-WR-CALNAME:ThrottlePro
X-ORIGINAL-URL:https://throttlepro.com
X-WR-CALDESC:Events for ThrottlePro
REFRESH-INTERVAL;VALUE=DURATION:PT1H
X-Robots-Tag:noindex
X-PUBLISHED-TTL:PT1H
BEGIN:VTIMEZONE
TZID:America/Chicago
BEGIN:DAYLIGHT
TZOFFSETFROM:-0600
TZOFFSETTO:-0500
TZNAME:CDT
DTSTART:20260308T080000
END:DAYLIGHT
BEGIN:STANDARD
TZOFFSETFROM:-0500
TZOFFSETTO:-0600
TZNAME:CST
DTSTART:20261101T070000
END:STANDARD
END:VTIMEZONE
BEGIN:VEVENT
DTSTART;TZID=America/Chicago:20260425T000000
DTEND;TZID=America/Chicago:20260425T000000
DTSTAMP:20260421T053754
CREATED:20251101T233410Z
LAST-MODIFIED:20251101T233410Z
UID:7261-1777075200-1777075200@throttlepro.com
SUMMARY:Jeepin' for CASA 2026
DESCRIPTION:?? SAVE THE DATE! ?? Mark yourcalendars — Jeepin’ for CASA 2026 is coming back and it’s going to be bigger\, better\, and muddier than ever! ??????  Join us April 25\, 2026 as we hit the trails in support of CASA and the incredible work they do for children in our community. Whether you’re aseasoned Jeeper or new to the ride\, this event is for everyone who loves adventure and giving back.  Expect all your favorites: ? Scenic trail rides ? Family-friendly fun ? Vendors\, food trucks\, silent auction & more ? Exclusive merch ? A Jeepin’ community with a cause!  Stay tuned for more details coming soon — but for now\, SAVE THE DATE and tag your Jeep crew! ??  https://www.facebook.com/events/1392058555140220/
URL:https://throttlepro.com/motorsport-event/jeepin-for-casa-2026/
END:VEVENT
END:VCALENDAR